BEGIN:VCALENDAR
VERSION:2.0
PRODID:-//Camino Real Playhouse - ECPv6.15.20//NONSGML v1.0//EN
CALSCALE:GREGORIAN
METHOD:PUBLISH
X-WR-CALNAME:Camino Real Playhouse
X-ORIGINAL-URL:https://caminorealplayhouse.org
X-WR-CALDESC:Events for Camino Real Playhouse
REFRESH-INTERVAL;VALUE=DURATION:PT1H
X-Robots-Tag:noindex
X-PUBLISHED-TTL:PT1H
BEGIN:VTIMEZONE
TZID:UTC
BEGIN:STANDARD
TZOFFSETFROM:+0000
TZOFFSETTO:+0000
TZNAME:UTC
DTSTART:20250101T000000
END:STANDARD
END:VTIMEZONE
BEGIN:VEVENT
DTSTART;TZID=UTC:20261031T193000
DTEND;TZID=UTC:20261031T220000
DTSTAMP:20260421T155029
CREATED:20260421T004512Z
LAST-MODIFIED:20260421T011918Z
UID:10000030-1793475000-1793484000@caminorealplayhouse.org
SUMMARY:Dracula: A Comedy of Terrors
DESCRIPTION:
URL:https://caminorealplayhouse.org/event/dracula-a-comedy-of-terrors-8/
CATEGORIES:Dracula: A Comedy of Terrors
ATTACH;FMTTYPE=image/jpeg:https://caminorealplayhouse.org/wp-content/uploads/2026/04/Dracula-V4.jpg
END:VEVENT
END:VCALENDAR