BEGIN:VCALENDAR
VERSION:2.0
PRODID:-//Camino Real Playhouse - ECPv6.15.20//NONSGML v1.0//EN
CALSCALE:GREGORIAN
METHOD:PUBLISH
X-ORIGINAL-URL:https://caminorealplayhouse.org
X-WR-CALDESC:Events for Camino Real Playhouse
REFRESH-INTERVAL;VALUE=DURATION:PT1H
X-Robots-Tag:noindex
X-PUBLISHED-TTL:PT1H
BEGIN:VTIMEZONE
TZID:UTC
BEGIN:STANDARD
TZOFFSETFROM:+0000
TZOFFSETTO:+0000
TZNAME:UTC
DTSTART:20260101T000000
END:STANDARD
END:VTIMEZONE
BEGIN:VEVENT
DTSTART;TZID=UTC:20270214T193000
DTEND;TZID=UTC:20270214T220000
DTSTAMP:20260421T221821
CREATED:20260421T004809Z
LAST-MODIFIED:20260421T004809Z
UID:10000050-1802633400-1802642400@caminorealplayhouse.org
SUMMARY:Kimberly Akimbo
DESCRIPTION:
URL:https://caminorealplayhouse.org/event/kimberly-akimbo-6/
CATEGORIES:Kimberly Akimbo
END:VEVENT
END:VCALENDAR