BEGIN:VCALENDAR
VERSION:2.0
PRODID:-//Camino Real Playhouse - ECPv6.15.20//NONSGML v1.0//EN
CALSCALE:GREGORIAN
METHOD:PUBLISH
X-WR-CALNAME:Camino Real Playhouse
X-ORIGINAL-URL:https://caminorealplayhouse.org
X-WR-CALDESC:Events for Camino Real Playhouse
REFRESH-INTERVAL;VALUE=DURATION:PT1H
X-Robots-Tag:noindex
X-PUBLISHED-TTL:PT1H
BEGIN:VTIMEZONE
TZID:UTC
BEGIN:STANDARD
TZOFFSETFROM:+0000
TZOFFSETTO:+0000
TZNAME:UTC
DTSTART:20260101T000000
END:STANDARD
END:VTIMEZONE
BEGIN:VEVENT
DTSTART;TZID=UTC:20270410T193000
DTEND;TZID=UTC:20270410T220000
DTSTAMP:20260422T050249
CREATED:20260421T005033Z
LAST-MODIFIED:20260421T005033Z
UID:10000067-1807385400-1807394400@caminorealplayhouse.org
SUMMARY:See How They Run
DESCRIPTION:
URL:https://caminorealplayhouse.org/event/see-how-they-run-5/
CATEGORIES:See How They Run
END:VEVENT
BEGIN:VEVENT
DTSTART;TZID=UTC:20270410T193000
DTEND;TZID=UTC:20270410T220000
DTSTAMP:20260422T050249
CREATED:20260421T005035Z
LAST-MODIFIED:20260421T005035Z
UID:10000085-1807385400-1807394400@caminorealplayhouse.org
SUMMARY:See How They Run
DESCRIPTION:
URL:https://caminorealplayhouse.org/event/see-how-they-run-14/
CATEGORIES:See How They Run
END:VEVENT
END:VCALENDAR