BEGIN:VCALENDAR
VERSION:2.0
PRODID:-//Camino Real Playhouse - ECPv6.15.20//NONSGML v1.0//EN
CALSCALE:GREGORIAN
METHOD:PUBLISH
X-WR-CALNAME:Camino Real Playhouse
X-ORIGINAL-URL:https://caminorealplayhouse.org
X-WR-CALDESC:Events for Camino Real Playhouse
REFRESH-INTERVAL;VALUE=DURATION:PT1H
X-Robots-Tag:noindex
X-PUBLISHED-TTL:PT1H
BEGIN:VTIMEZONE
TZID:UTC
BEGIN:STANDARD
TZOFFSETFROM:+0000
TZOFFSETTO:+0000
TZNAME:UTC
DTSTART:20260101T000000
END:STANDARD
END:VTIMEZONE
BEGIN:VEVENT
DTSTART;TZID=UTC:20270611T193000
DTEND;TZID=UTC:20270611T220000
DTSTAMP:20260422T225136
CREATED:20260421T011618Z
LAST-MODIFIED:20260421T011618Z
UID:10000105-1812742200-1812751200@caminorealplayhouse.org
SUMMARY:Gypsy
DESCRIPTION:
URL:https://caminorealplayhouse.org/event/gypsy-7/
CATEGORIES:Gypsy
END:VEVENT
BEGIN:VEVENT
DTSTART;TZID=UTC:20270611T193000
DTEND;TZID=UTC:20270611T220000
DTSTAMP:20260422T225136
CREATED:20260421T011621Z
LAST-MODIFIED:20260421T011621Z
UID:10000126-1812742200-1812751200@caminorealplayhouse.org
SUMMARY:Gypsy
DESCRIPTION:
URL:https://caminorealplayhouse.org/event/gypsy-19/
CATEGORIES:Gypsy
END:VEVENT
BEGIN:VEVENT
DTSTART;TZID=UTC:20270612T193000
DTEND;TZID=UTC:20270612T220000
DTSTAMP:20260422T225136
CREATED:20260421T011623Z
LAST-MODIFIED:20260421T011623Z
UID:10000106-1812828600-1812837600@caminorealplayhouse.org
SUMMARY:Gypsy
DESCRIPTION:
URL:https://caminorealplayhouse.org/event/gypsy-8/
CATEGORIES:Gypsy
END:VEVENT
BEGIN:VEVENT
DTSTART;TZID=UTC:20270612T193000
DTEND;TZID=UTC:20270612T220000
DTSTAMP:20260422T225136
CREATED:20260421T011625Z
LAST-MODIFIED:20260421T011625Z
UID:10000127-1812828600-1812837600@caminorealplayhouse.org
SUMMARY:Gypsy
DESCRIPTION:
URL:https://caminorealplayhouse.org/event/gypsy-20/
CATEGORIES:Gypsy
END:VEVENT
BEGIN:VEVENT
DTSTART;TZID=UTC:20270613T193000
DTEND;TZID=UTC:20270613T220000
DTSTAMP:20260422T225136
CREATED:20260421T011627Z
LAST-MODIFIED:20260421T011627Z
UID:10000107-1812915000-1812924000@caminorealplayhouse.org
SUMMARY:Gypsy
DESCRIPTION:
URL:https://caminorealplayhouse.org/event/gypsy-9/
CATEGORIES:Gypsy
END:VEVENT
BEGIN:VEVENT
DTSTART;TZID=UTC:20270613T193000
DTEND;TZID=UTC:20270613T220000
DTSTAMP:20260422T225136
CREATED:20260421T011630Z
LAST-MODIFIED:20260421T011630Z
UID:10000128-1812915000-1812924000@caminorealplayhouse.org
SUMMARY:Gypsy
DESCRIPTION:
URL:https://caminorealplayhouse.org/event/gypsy-21/
CATEGORIES:Gypsy
END:VEVENT
BEGIN:VEVENT
DTSTART;TZID=UTC:20270618T193000
DTEND;TZID=UTC:20270618T220000
DTSTAMP:20260422T225136
CREATED:20260421T011632Z
LAST-MODIFIED:20260421T011632Z
UID:10000108-1813347000-1813356000@caminorealplayhouse.org
SUMMARY:Gypsy
DESCRIPTION:
URL:https://caminorealplayhouse.org/event/gypsy-10/
CATEGORIES:Gypsy
END:VEVENT
BEGIN:VEVENT
DTSTART;TZID=UTC:20270618T193000
DTEND;TZID=UTC:20270618T220000
DTSTAMP:20260422T225136
CREATED:20260421T011635Z
LAST-MODIFIED:20260421T011635Z
UID:10000129-1813347000-1813356000@caminorealplayhouse.org
SUMMARY:Gypsy
DESCRIPTION:
URL:https://caminorealplayhouse.org/event/gypsy-22/
CATEGORIES:Gypsy
END:VEVENT
BEGIN:VEVENT
DTSTART;TZID=UTC:20270619T193000
DTEND;TZID=UTC:20270619T220000
DTSTAMP:20260422T225136
CREATED:20260421T011637Z
LAST-MODIFIED:20260421T011637Z
UID:10000109-1813433400-1813442400@caminorealplayhouse.org
SUMMARY:Gypsy
DESCRIPTION:
URL:https://caminorealplayhouse.org/event/gypsy-11/
CATEGORIES:Gypsy
END:VEVENT
BEGIN:VEVENT
DTSTART;TZID=UTC:20270619T193000
DTEND;TZID=UTC:20270619T220000
DTSTAMP:20260422T225136
CREATED:20260421T011640Z
LAST-MODIFIED:20260421T011640Z
UID:10000130-1813433400-1813442400@caminorealplayhouse.org
SUMMARY:Gypsy
DESCRIPTION:
URL:https://caminorealplayhouse.org/event/gypsy-23/
CATEGORIES:Gypsy
END:VEVENT
BEGIN:VEVENT
DTSTART;TZID=UTC:20270620T193000
DTEND;TZID=UTC:20270620T220000
DTSTAMP:20260422T225136
CREATED:20260421T011649Z
LAST-MODIFIED:20260421T011649Z
UID:10000110-1813519800-1813528800@caminorealplayhouse.org
SUMMARY:Gypsy
DESCRIPTION:
URL:https://caminorealplayhouse.org/event/gypsy-12/
CATEGORIES:Gypsy
END:VEVENT
BEGIN:VEVENT
DTSTART;TZID=UTC:20270620T193000
DTEND;TZID=UTC:20270620T220000
DTSTAMP:20260422T225136
CREATED:20260421T011652Z
LAST-MODIFIED:20260421T011652Z
UID:10000131-1813519800-1813528800@caminorealplayhouse.org
SUMMARY:Gypsy
DESCRIPTION:
URL:https://caminorealplayhouse.org/event/gypsy-24/
CATEGORIES:Gypsy
END:VEVENT
END:VCALENDAR