BEGIN:VCALENDAR
VERSION:2.0
PRODID:-//Camino Real Playhouse - ECPv6.15.20//NONSGML v1.0//EN
CALSCALE:GREGORIAN
METHOD:PUBLISH
X-WR-CALNAME:Camino Real Playhouse
X-ORIGINAL-URL:https://caminorealplayhouse.org
X-WR-CALDESC:Events for Camino Real Playhouse
REFRESH-INTERVAL;VALUE=DURATION:PT1H
X-Robots-Tag:noindex
X-PUBLISHED-TTL:PT1H
BEGIN:VTIMEZONE
TZID:UTC
BEGIN:STANDARD
TZOFFSETFROM:+0000
TZOFFSETTO:+0000
TZNAME:UTC
DTSTART:20260101T000000
END:STANDARD
END:VTIMEZONE
BEGIN:VEVENT
DTSTART;TZID=UTC:20270205T193000
DTEND;TZID=UTC:20270205T220000
DTSTAMP:20260421T222416
CREATED:20260421T004644Z
LAST-MODIFIED:20260421T004644Z
UID:10000045-1801855800-1801864800@caminorealplayhouse.org
SUMMARY:Kimberly Akimbo
DESCRIPTION:
URL:https://caminorealplayhouse.org/event/kimberly-akimbo/
CATEGORIES:Kimberly Akimbo
END:VEVENT
BEGIN:VEVENT
DTSTART;TZID=UTC:20270206T193000
DTEND;TZID=UTC:20270206T220000
DTSTAMP:20260421T222416
CREATED:20260421T004646Z
LAST-MODIFIED:20260421T004646Z
UID:10000046-1801942200-1801951200@caminorealplayhouse.org
SUMMARY:Kimberly Akimbo
DESCRIPTION:
URL:https://caminorealplayhouse.org/event/kimberly-akimbo-2/
CATEGORIES:Kimberly Akimbo
END:VEVENT
BEGIN:VEVENT
DTSTART;TZID=UTC:20270207T193000
DTEND;TZID=UTC:20270207T220000
DTSTAMP:20260421T222416
CREATED:20260421T004648Z
LAST-MODIFIED:20260421T004648Z
UID:10000047-1802028600-1802037600@caminorealplayhouse.org
SUMMARY:Kimberly Akimbo
DESCRIPTION:
URL:https://caminorealplayhouse.org/event/kimberly-akimbo-3/
CATEGORIES:Kimberly Akimbo
END:VEVENT
BEGIN:VEVENT
DTSTART;TZID=UTC:20270212T193000
DTEND;TZID=UTC:20270212T220000
DTSTAMP:20260421T222416
CREATED:20260421T004651Z
LAST-MODIFIED:20260421T004651Z
UID:10000048-1802460600-1802469600@caminorealplayhouse.org
SUMMARY:Kimberly Akimbo
DESCRIPTION:
URL:https://caminorealplayhouse.org/event/kimberly-akimbo-4/
CATEGORIES:Kimberly Akimbo
END:VEVENT
BEGIN:VEVENT
DTSTART;TZID=UTC:20270213T193000
DTEND;TZID=UTC:20270213T220000
DTSTAMP:20260421T222416
CREATED:20260421T004653Z
LAST-MODIFIED:20260421T004653Z
UID:10000049-1802547000-1802556000@caminorealplayhouse.org
SUMMARY:Kimberly Akimbo
DESCRIPTION:
URL:https://caminorealplayhouse.org/event/kimberly-akimbo-5/
CATEGORIES:Kimberly Akimbo
END:VEVENT
BEGIN:VEVENT
DTSTART;TZID=UTC:20270214T193000
DTEND;TZID=UTC:20270214T220000
DTSTAMP:20260421T222416
CREATED:20260421T004809Z
LAST-MODIFIED:20260421T004809Z
UID:10000050-1802633400-1802642400@caminorealplayhouse.org
SUMMARY:Kimberly Akimbo
DESCRIPTION:
URL:https://caminorealplayhouse.org/event/kimberly-akimbo-6/
CATEGORIES:Kimberly Akimbo
END:VEVENT
BEGIN:VEVENT
DTSTART;TZID=UTC:20270219T193000
DTEND;TZID=UTC:20270219T220000
DTSTAMP:20260421T222416
CREATED:20260421T004811Z
LAST-MODIFIED:20260421T004811Z
UID:10000051-1803065400-1803074400@caminorealplayhouse.org
SUMMARY:Kimberly Akimbo
DESCRIPTION:
URL:https://caminorealplayhouse.org/event/kimberly-akimbo-7/
CATEGORIES:Kimberly Akimbo
END:VEVENT
BEGIN:VEVENT
DTSTART;TZID=UTC:20270220T193000
DTEND;TZID=UTC:20270220T220000
DTSTAMP:20260421T222416
CREATED:20260421T004813Z
LAST-MODIFIED:20260421T004813Z
UID:10000052-1803151800-1803160800@caminorealplayhouse.org
SUMMARY:Kimberly Akimbo
DESCRIPTION:
URL:https://caminorealplayhouse.org/event/kimberly-akimbo-8/
CATEGORIES:Kimberly Akimbo
END:VEVENT
BEGIN:VEVENT
DTSTART;TZID=UTC:20270221T193000
DTEND;TZID=UTC:20270221T220000
DTSTAMP:20260421T222416
CREATED:20260421T004816Z
LAST-MODIFIED:20260421T004816Z
UID:10000053-1803238200-1803247200@caminorealplayhouse.org
SUMMARY:Kimberly Akimbo
DESCRIPTION:
URL:https://caminorealplayhouse.org/event/kimberly-akimbo-9/
CATEGORIES:Kimberly Akimbo
END:VEVENT
END:VCALENDAR