BEGIN:VCALENDAR
VERSION:2.0
PRODID:-//Camino Real Playhouse - ECPv6.15.20//NONSGML v1.0//EN
CALSCALE:GREGORIAN
METHOD:PUBLISH
X-ORIGINAL-URL:https://caminorealplayhouse.org
X-WR-CALDESC:Events for Camino Real Playhouse
REFRESH-INTERVAL;VALUE=DURATION:PT1H
X-Robots-Tag:noindex
X-PUBLISHED-TTL:PT1H
BEGIN:VTIMEZONE
TZID:UTC
BEGIN:STANDARD
TZOFFSETFROM:+0000
TZOFFSETTO:+0000
TZNAME:UTC
DTSTART:20260101T000000
END:STANDARD
END:VTIMEZONE
BEGIN:VEVENT
DTSTART;TZID=UTC:20270206T193000
DTEND;TZID=UTC:20270206T220000
DTSTAMP:20260422T001028
CREATED:20260421T004646Z
LAST-MODIFIED:20260421T004646Z
UID:10000046-1801942200-1801951200@caminorealplayhouse.org
SUMMARY:Kimberly Akimbo
DESCRIPTION:
URL:https://caminorealplayhouse.org/event/kimberly-akimbo-2/
CATEGORIES:Kimberly Akimbo
END:VEVENT
END:VCALENDAR