BEGIN:VCALENDAR
VERSION:2.0
PRODID:-//Camino Real Playhouse - ECPv6.15.20//NONSGML v1.0//EN
CALSCALE:GREGORIAN
METHOD:PUBLISH
X-WR-CALNAME:Camino Real Playhouse
X-ORIGINAL-URL:https://caminorealplayhouse.org
X-WR-CALDESC:Events for Camino Real Playhouse
REFRESH-INTERVAL;VALUE=DURATION:PT1H
X-Robots-Tag:noindex
X-PUBLISHED-TTL:PT1H
BEGIN:VTIMEZONE
TZID:UTC
BEGIN:STANDARD
TZOFFSETFROM:+0000
TZOFFSETTO:+0000
TZNAME:UTC
DTSTART:20260101T000000
END:STANDARD
END:VTIMEZONE
BEGIN:VEVENT
DTSTART;TZID=UTC:20270321T193000
DTEND;TZID=UTC:20270321T220000
DTSTAMP:20260422T020253
CREATED:20260421T004937Z
LAST-MODIFIED:20260421T004937Z
UID:10000062-1805657400-1805666400@caminorealplayhouse.org
SUMMARY:Witness for the Prosecution
DESCRIPTION:
URL:https://caminorealplayhouse.org/event/witness-for-the-prosecution-9/
CATEGORIES:Witness for the Prosecution
END:VEVENT
BEGIN:VEVENT
DTSTART;TZID=UTC:20270321T193000
DTEND;TZID=UTC:20270321T220000
DTSTAMP:20260422T020253
CREATED:20260421T004940Z
LAST-MODIFIED:20260421T004940Z
UID:10000080-1805657400-1805666400@caminorealplayhouse.org
SUMMARY:Witness for the Prosecution
DESCRIPTION:
URL:https://caminorealplayhouse.org/event/witness-for-the-prosecution-18/
CATEGORIES:Witness for the Prosecution
END:VEVENT
END:VCALENDAR