BEGIN:VCALENDAR
VERSION:2.0
PRODID:-//Camino Real Playhouse - ECPv6.15.20//NONSGML v1.0//EN
CALSCALE:GREGORIAN
METHOD:PUBLISH
X-ORIGINAL-URL:https://caminorealplayhouse.org
X-WR-CALDESC:Events for Camino Real Playhouse
REFRESH-INTERVAL;VALUE=DURATION:PT1H
X-Robots-Tag:noindex
X-PUBLISHED-TTL:PT1H
BEGIN:VTIMEZONE
TZID:UTC
BEGIN:STANDARD
TZOFFSETFROM:+0000
TZOFFSETTO:+0000
TZNAME:UTC
DTSTART:20250101T000000
END:STANDARD
END:VTIMEZONE
BEGIN:VEVENT
DTSTART;TZID=UTC:20260925T193000
DTEND;TZID=UTC:20260925T220000
DTSTAMP:20260421T172851
CREATED:20260421T004224Z
LAST-MODIFIED:20260421T011848Z
UID:10000017-1790364600-1790373600@caminorealplayhouse.org
SUMMARY:Dirty Rotten Scoundrels
DESCRIPTION:
URL:https://caminorealplayhouse.org/event/dirty-rotten-scoundrels-7/
CATEGORIES:Dirty Rotten Scoundrels
ATTACH;FMTTYPE=image/jpeg:https://caminorealplayhouse.org/wp-content/uploads/2026/04/Dirty-Rotten-Scoundrals-scaled-1.jpg
END:VEVENT
BEGIN:VEVENT
DTSTART;TZID=UTC:20260926T193000
DTEND;TZID=UTC:20260926T220000
DTSTAMP:20260421T172851
CREATED:20260421T004226Z
LAST-MODIFIED:20260421T011850Z
UID:10000018-1790451000-1790460000@caminorealplayhouse.org
SUMMARY:Dirty Rotten Scoundrels
DESCRIPTION:
URL:https://caminorealplayhouse.org/event/dirty-rotten-scoundrels-8/
CATEGORIES:Dirty Rotten Scoundrels
ATTACH;FMTTYPE=image/jpeg:https://caminorealplayhouse.org/wp-content/uploads/2026/04/Dirty-Rotten-Scoundrals-scaled-1.jpg
END:VEVENT
BEGIN:VEVENT
DTSTART;TZID=UTC:20260927T193000
DTEND;TZID=UTC:20260927T220000
DTSTAMP:20260421T172851
CREATED:20260421T004228Z
LAST-MODIFIED:20260421T011853Z
UID:10000019-1790537400-1790546400@caminorealplayhouse.org
SUMMARY:Dirty Rotten Scoundrels
DESCRIPTION:
URL:https://caminorealplayhouse.org/event/dirty-rotten-scoundrels-9/
CATEGORIES:Dirty Rotten Scoundrels
ATTACH;FMTTYPE=image/jpeg:https://caminorealplayhouse.org/wp-content/uploads/2026/04/Dirty-Rotten-Scoundrals-scaled-1.jpg
END:VEVENT
BEGIN:VEVENT
DTSTART;TZID=UTC:20261002T193000
DTEND;TZID=UTC:20261002T220000
DTSTAMP:20260421T172851
CREATED:20260421T004439Z
LAST-MODIFIED:20260421T011855Z
UID:10000020-1790969400-1790978400@caminorealplayhouse.org
SUMMARY:Dirty Rotten Scoundrels
DESCRIPTION:
URL:https://caminorealplayhouse.org/event/dirty-rotten-scoundrels-10/
CATEGORIES:Dirty Rotten Scoundrels
ATTACH;FMTTYPE=image/jpeg:https://caminorealplayhouse.org/wp-content/uploads/2026/04/Dirty-Rotten-Scoundrals-scaled-1.jpg
END:VEVENT
BEGIN:VEVENT
DTSTART;TZID=UTC:20261003T193000
DTEND;TZID=UTC:20261003T220000
DTSTAMP:20260421T172851
CREATED:20260421T004442Z
LAST-MODIFIED:20260421T011857Z
UID:10000021-1791055800-1791064800@caminorealplayhouse.org
SUMMARY:Dirty Rotten Scoundrels
DESCRIPTION:
URL:https://caminorealplayhouse.org/event/dirty-rotten-scoundrels-11/
CATEGORIES:Dirty Rotten Scoundrels
ATTACH;FMTTYPE=image/jpeg:https://caminorealplayhouse.org/wp-content/uploads/2026/04/Dirty-Rotten-Scoundrals-scaled-1.jpg
END:VEVENT
BEGIN:VEVENT
DTSTART;TZID=UTC:20261004T193000
DTEND;TZID=UTC:20261004T220000
DTSTAMP:20260421T172851
CREATED:20260421T004444Z
LAST-MODIFIED:20260421T011900Z
UID:10000022-1791142200-1791151200@caminorealplayhouse.org
SUMMARY:Dirty Rotten Scoundrels
DESCRIPTION:
URL:https://caminorealplayhouse.org/event/dirty-rotten-scoundrels-12/
CATEGORIES:Dirty Rotten Scoundrels
ATTACH;FMTTYPE=image/jpeg:https://caminorealplayhouse.org/wp-content/uploads/2026/04/Dirty-Rotten-Scoundrals-scaled-1.jpg
END:VEVENT
BEGIN:VEVENT
DTSTART;TZID=UTC:20261016T193000
DTEND;TZID=UTC:20261016T220000
DTSTAMP:20260421T172851
CREATED:20260421T004446Z
LAST-MODIFIED:20260421T011902Z
UID:10000023-1792179000-1792188000@caminorealplayhouse.org
SUMMARY:Dracula: A Comedy of Terrors
DESCRIPTION:
URL:https://caminorealplayhouse.org/event/dracula-a-comedy-of-terrors/
CATEGORIES:Dracula: A Comedy of Terrors
ATTACH;FMTTYPE=image/jpeg:https://caminorealplayhouse.org/wp-content/uploads/2026/04/Dracula-V4.jpg
END:VEVENT
BEGIN:VEVENT
DTSTART;TZID=UTC:20261017T193000
DTEND;TZID=UTC:20261017T220000
DTSTAMP:20260421T172851
CREATED:20260421T004449Z
LAST-MODIFIED:20260421T011904Z
UID:10000024-1792265400-1792274400@caminorealplayhouse.org
SUMMARY:Dracula: A Comedy of Terrors
DESCRIPTION:
URL:https://caminorealplayhouse.org/event/dracula-a-comedy-of-terrors-2/
CATEGORIES:Dracula: A Comedy of Terrors
ATTACH;FMTTYPE=image/jpeg:https://caminorealplayhouse.org/wp-content/uploads/2026/04/Dracula-V4.jpg
END:VEVENT
BEGIN:VEVENT
DTSTART;TZID=UTC:20261018T193000
DTEND;TZID=UTC:20261018T220000
DTSTAMP:20260421T172851
CREATED:20260421T004451Z
LAST-MODIFIED:20260421T011907Z
UID:10000025-1792351800-1792360800@caminorealplayhouse.org
SUMMARY:Dracula: A Comedy of Terrors
DESCRIPTION:
URL:https://caminorealplayhouse.org/event/dracula-a-comedy-of-terrors-3/
CATEGORIES:Dracula: A Comedy of Terrors
ATTACH;FMTTYPE=image/jpeg:https://caminorealplayhouse.org/wp-content/uploads/2026/04/Dracula-V4.jpg
END:VEVENT
BEGIN:VEVENT
DTSTART;TZID=UTC:20261023T193000
DTEND;TZID=UTC:20261023T220000
DTSTAMP:20260421T172851
CREATED:20260421T004453Z
LAST-MODIFIED:20260421T011909Z
UID:10000026-1792783800-1792792800@caminorealplayhouse.org
SUMMARY:Dracula: A Comedy of Terrors
DESCRIPTION:
URL:https://caminorealplayhouse.org/event/dracula-a-comedy-of-terrors-4/
CATEGORIES:Dracula: A Comedy of Terrors
ATTACH;FMTTYPE=image/jpeg:https://caminorealplayhouse.org/wp-content/uploads/2026/04/Dracula-V4.jpg
END:VEVENT
BEGIN:VEVENT
DTSTART;TZID=UTC:20261024T193000
DTEND;TZID=UTC:20261024T220000
DTSTAMP:20260421T172851
CREATED:20260421T004456Z
LAST-MODIFIED:20260421T011911Z
UID:10000027-1792870200-1792879200@caminorealplayhouse.org
SUMMARY:Dracula: A Comedy of Terrors
DESCRIPTION:
URL:https://caminorealplayhouse.org/event/dracula-a-comedy-of-terrors-5/
CATEGORIES:Dracula: A Comedy of Terrors
ATTACH;FMTTYPE=image/jpeg:https://caminorealplayhouse.org/wp-content/uploads/2026/04/Dracula-V4.jpg
END:VEVENT
BEGIN:VEVENT
DTSTART;TZID=UTC:20261025T193000
DTEND;TZID=UTC:20261025T220000
DTSTAMP:20260421T172851
CREATED:20260421T004458Z
LAST-MODIFIED:20260421T011914Z
UID:10000028-1792956600-1792965600@caminorealplayhouse.org
SUMMARY:Dracula: A Comedy of Terrors
DESCRIPTION:
URL:https://caminorealplayhouse.org/event/dracula-a-comedy-of-terrors-6/
CATEGORIES:Dracula: A Comedy of Terrors
ATTACH;FMTTYPE=image/jpeg:https://caminorealplayhouse.org/wp-content/uploads/2026/04/Dracula-V4.jpg
END:VEVENT
BEGIN:VEVENT
DTSTART;TZID=UTC:20261030T193000
DTEND;TZID=UTC:20261030T220000
DTSTAMP:20260421T172851
CREATED:20260421T004500Z
LAST-MODIFIED:20260421T011916Z
UID:10000029-1793388600-1793397600@caminorealplayhouse.org
SUMMARY:Dracula: A Comedy of Terrors
DESCRIPTION:
URL:https://caminorealplayhouse.org/event/dracula-a-comedy-of-terrors-7/
CATEGORIES:Dracula: A Comedy of Terrors
ATTACH;FMTTYPE=image/jpeg:https://caminorealplayhouse.org/wp-content/uploads/2026/04/Dracula-V4.jpg
END:VEVENT
BEGIN:VEVENT
DTSTART;TZID=UTC:20261031T193000
DTEND;TZID=UTC:20261031T220000
DTSTAMP:20260421T172851
CREATED:20260421T004512Z
LAST-MODIFIED:20260421T011918Z
UID:10000030-1793475000-1793484000@caminorealplayhouse.org
SUMMARY:Dracula: A Comedy of Terrors
DESCRIPTION:
URL:https://caminorealplayhouse.org/event/dracula-a-comedy-of-terrors-8/
CATEGORIES:Dracula: A Comedy of Terrors
ATTACH;FMTTYPE=image/jpeg:https://caminorealplayhouse.org/wp-content/uploads/2026/04/Dracula-V4.jpg
END:VEVENT
BEGIN:VEVENT
DTSTART;TZID=UTC:20261101T193000
DTEND;TZID=UTC:20261101T220000
DTSTAMP:20260421T172851
CREATED:20260421T004514Z
LAST-MODIFIED:20260421T011920Z
UID:10000031-1793561400-1793570400@caminorealplayhouse.org
SUMMARY:Dracula: A Comedy of Terrors
DESCRIPTION:
URL:https://caminorealplayhouse.org/event/dracula-a-comedy-of-terrors-9/
CATEGORIES:Dracula: A Comedy of Terrors
ATTACH;FMTTYPE=image/jpeg:https://caminorealplayhouse.org/wp-content/uploads/2026/04/Dracula-V4.jpg
END:VEVENT
BEGIN:VEVENT
DTSTART;TZID=UTC:20261127T193000
DTEND;TZID=UTC:20261127T220000
DTSTAMP:20260421T172851
CREATED:20260421T004516Z
LAST-MODIFIED:20260421T011923Z
UID:10000032-1795807800-1795816800@caminorealplayhouse.org
SUMMARY:A Christmas Story
DESCRIPTION:
URL:https://caminorealplayhouse.org/event/a-christmas-story/
CATEGORIES:A Christmas Story
ATTACH;FMTTYPE=image/jpeg:https://caminorealplayhouse.org/wp-content/uploads/2026/04/A-Christmas-Story.jpg
END:VEVENT
BEGIN:VEVENT
DTSTART;TZID=UTC:20261128T193000
DTEND;TZID=UTC:20261128T220000
DTSTAMP:20260421T172851
CREATED:20260421T004519Z
LAST-MODIFIED:20260421T011925Z
UID:10000033-1795894200-1795903200@caminorealplayhouse.org
SUMMARY:A Christmas Story
DESCRIPTION:
URL:https://caminorealplayhouse.org/event/a-christmas-story-2/
CATEGORIES:A Christmas Story
ATTACH;FMTTYPE=image/jpeg:https://caminorealplayhouse.org/wp-content/uploads/2026/04/A-Christmas-Story.jpg
END:VEVENT
BEGIN:VEVENT
DTSTART;TZID=UTC:20261129T193000
DTEND;TZID=UTC:20261129T220000
DTSTAMP:20260421T172851
CREATED:20260421T004521Z
LAST-MODIFIED:20260421T011927Z
UID:10000034-1795980600-1795989600@caminorealplayhouse.org
SUMMARY:A Christmas Story
DESCRIPTION:
URL:https://caminorealplayhouse.org/event/a-christmas-story-3/
CATEGORIES:A Christmas Story
ATTACH;FMTTYPE=image/jpeg:https://caminorealplayhouse.org/wp-content/uploads/2026/04/A-Christmas-Story.jpg
END:VEVENT
BEGIN:VEVENT
DTSTART;TZID=UTC:20261204T193000
DTEND;TZID=UTC:20261204T220000
DTSTAMP:20260421T172851
CREATED:20260421T004523Z
LAST-MODIFIED:20260421T011932Z
UID:10000035-1796412600-1796421600@caminorealplayhouse.org
SUMMARY:A Christmas Story
DESCRIPTION:
URL:https://caminorealplayhouse.org/event/a-christmas-story-4/
CATEGORIES:A Christmas Story
ATTACH;FMTTYPE=image/jpeg:https://caminorealplayhouse.org/wp-content/uploads/2026/04/A-Christmas-Story.jpg
END:VEVENT
BEGIN:VEVENT
DTSTART;TZID=UTC:20261205T193000
DTEND;TZID=UTC:20261205T220000
DTSTAMP:20260421T172851
CREATED:20260421T004525Z
LAST-MODIFIED:20260421T011935Z
UID:10000036-1796499000-1796508000@caminorealplayhouse.org
SUMMARY:A Christmas Story
DESCRIPTION:
URL:https://caminorealplayhouse.org/event/a-christmas-story-5/
CATEGORIES:A Christmas Story
ATTACH;FMTTYPE=image/jpeg:https://caminorealplayhouse.org/wp-content/uploads/2026/04/A-Christmas-Story.jpg
END:VEVENT
BEGIN:VEVENT
DTSTART;TZID=UTC:20261206T193000
DTEND;TZID=UTC:20261206T220000
DTSTAMP:20260421T172851
CREATED:20260421T004528Z
LAST-MODIFIED:20260421T004528Z
UID:10000037-1796585400-1796594400@caminorealplayhouse.org
SUMMARY:A Christmas Story
DESCRIPTION:
URL:https://caminorealplayhouse.org/event/a-christmas-story-6/
CATEGORIES:A Christmas Story
ATTACH;FMTTYPE=image/jpeg:https://caminorealplayhouse.org/wp-content/uploads/2026/04/A-Christmas-Story.jpg
END:VEVENT
BEGIN:VEVENT
DTSTART;TZID=UTC:20261211T193000
DTEND;TZID=UTC:20261211T220000
DTSTAMP:20260421T172851
CREATED:20260421T004530Z
LAST-MODIFIED:20260421T004530Z
UID:10000038-1797017400-1797026400@caminorealplayhouse.org
SUMMARY:A Christmas Story
DESCRIPTION:
URL:https://caminorealplayhouse.org/event/a-christmas-story-7/
CATEGORIES:A Christmas Story
ATTACH;FMTTYPE=image/jpeg:https://caminorealplayhouse.org/wp-content/uploads/2026/04/A-Christmas-Story.jpg
END:VEVENT
BEGIN:VEVENT
DTSTART;TZID=UTC:20270108T193000
DTEND;TZID=UTC:20270108T220000
DTSTAMP:20260421T172851
CREATED:20260421T004532Z
LAST-MODIFIED:20260421T004532Z
UID:10000039-1799436600-1799445600@caminorealplayhouse.org
SUMMARY:ShowOff! 2027
DESCRIPTION:
URL:https://caminorealplayhouse.org/event/showoff-2027/
CATEGORIES:ShowOff! 2027
ATTACH;FMTTYPE=image/jpeg:https://caminorealplayhouse.org/wp-content/uploads/2026/04/TIX-ShowOff-2027_with-Datescorrected.jpg
END:VEVENT
BEGIN:VEVENT
DTSTART;TZID=UTC:20270109T193000
DTEND;TZID=UTC:20270109T220000
DTSTAMP:20260421T172851
CREATED:20260421T004632Z
LAST-MODIFIED:20260421T004632Z
UID:10000040-1799523000-1799532000@caminorealplayhouse.org
SUMMARY:ShowOff! 2027
DESCRIPTION:
URL:https://caminorealplayhouse.org/event/showoff-2027-2/
CATEGORIES:ShowOff! 2027
ATTACH;FMTTYPE=image/jpeg:https://caminorealplayhouse.org/wp-content/uploads/2026/04/TIX-ShowOff-2027_with-Datescorrected.jpg
END:VEVENT
BEGIN:VEVENT
DTSTART;TZID=UTC:20270110T193000
DTEND;TZID=UTC:20270110T220000
DTSTAMP:20260421T172851
CREATED:20260421T004635Z
LAST-MODIFIED:20260421T004635Z
UID:10000041-1799609400-1799618400@caminorealplayhouse.org
SUMMARY:ShowOff! 2027
DESCRIPTION:
URL:https://caminorealplayhouse.org/event/showoff-2027-3/
CATEGORIES:ShowOff! 2027
ATTACH;FMTTYPE=image/jpeg:https://caminorealplayhouse.org/wp-content/uploads/2026/04/TIX-ShowOff-2027_with-Datescorrected.jpg
END:VEVENT
BEGIN:VEVENT
DTSTART;TZID=UTC:20270115T193000
DTEND;TZID=UTC:20270115T220000
DTSTAMP:20260421T172851
CREATED:20260421T004637Z
LAST-MODIFIED:20260421T004637Z
UID:10000042-1800041400-1800050400@caminorealplayhouse.org
SUMMARY:ShowOff! 2027
DESCRIPTION:
URL:https://caminorealplayhouse.org/event/showoff-2027-4/
CATEGORIES:ShowOff! 2027
ATTACH;FMTTYPE=image/jpeg:https://caminorealplayhouse.org/wp-content/uploads/2026/04/TIX-ShowOff-2027_with-Datescorrected.jpg
END:VEVENT
BEGIN:VEVENT
DTSTART;TZID=UTC:20270116T193000
DTEND;TZID=UTC:20270116T220000
DTSTAMP:20260421T172851
CREATED:20260421T004639Z
LAST-MODIFIED:20260421T004639Z
UID:10000043-1800127800-1800136800@caminorealplayhouse.org
SUMMARY:ShowOff! 2027
DESCRIPTION:
URL:https://caminorealplayhouse.org/event/showoff-2027-5/
CATEGORIES:ShowOff! 2027
ATTACH;FMTTYPE=image/jpeg:https://caminorealplayhouse.org/wp-content/uploads/2026/04/TIX-ShowOff-2027_with-Datescorrected.jpg
END:VEVENT
BEGIN:VEVENT
DTSTART;TZID=UTC:20270117T193000
DTEND;TZID=UTC:20270117T220000
DTSTAMP:20260421T172851
CREATED:20260421T004642Z
LAST-MODIFIED:20260421T004642Z
UID:10000044-1800214200-1800223200@caminorealplayhouse.org
SUMMARY:ShowOff! 2027
DESCRIPTION:
URL:https://caminorealplayhouse.org/event/showoff-2027-6/
CATEGORIES:ShowOff! 2027
ATTACH;FMTTYPE=image/jpeg:https://caminorealplayhouse.org/wp-content/uploads/2026/04/TIX-ShowOff-2027_with-Datescorrected.jpg
END:VEVENT
BEGIN:VEVENT
DTSTART;TZID=UTC:20270205T193000
DTEND;TZID=UTC:20270205T220000
DTSTAMP:20260421T172851
CREATED:20260421T004644Z
LAST-MODIFIED:20260421T004644Z
UID:10000045-1801855800-1801864800@caminorealplayhouse.org
SUMMARY:Kimberly Akimbo
DESCRIPTION:
URL:https://caminorealplayhouse.org/event/kimberly-akimbo/
CATEGORIES:Kimberly Akimbo
END:VEVENT
BEGIN:VEVENT
DTSTART;TZID=UTC:20270206T193000
DTEND;TZID=UTC:20270206T220000
DTSTAMP:20260421T172851
CREATED:20260421T004646Z
LAST-MODIFIED:20260421T004646Z
UID:10000046-1801942200-1801951200@caminorealplayhouse.org
SUMMARY:Kimberly Akimbo
DESCRIPTION:
URL:https://caminorealplayhouse.org/event/kimberly-akimbo-2/
CATEGORIES:Kimberly Akimbo
END:VEVENT
END:VCALENDAR