BEGIN:VCALENDAR
VERSION:2.0
PRODID:-//Camino Real Playhouse - ECPv6.15.20//NONSGML v1.0//EN
CALSCALE:GREGORIAN
METHOD:PUBLISH
X-WR-CALNAME:Camino Real Playhouse
X-ORIGINAL-URL:https://caminorealplayhouse.org
X-WR-CALDESC:Events for Camino Real Playhouse
REFRESH-INTERVAL;VALUE=DURATION:PT1H
X-Robots-Tag:noindex
X-PUBLISHED-TTL:PT1H
BEGIN:VTIMEZONE
TZID:UTC
BEGIN:STANDARD
TZOFFSETFROM:+0000
TZOFFSETTO:+0000
TZNAME:UTC
DTSTART:20260101T000000
END:STANDARD
END:VTIMEZONE
BEGIN:VEVENT
DTSTART;TZID=UTC:20270502T193000
DTEND;TZID=UTC:20270502T220000
DTSTAMP:20260422T022608
CREATED:20260421T005116Z
LAST-MODIFIED:20260421T005116Z
UID:10000092-1809286200-1809295200@caminorealplayhouse.org
SUMMARY:The Miss Firecracker Contest
DESCRIPTION:
URL:https://caminorealplayhouse.org/event/the-miss-firecracker-contest-3/
CATEGORIES:The Miss Firecracker Contest
END:VEVENT
BEGIN:VEVENT
DTSTART;TZID=UTC:20270502T193000
DTEND;TZID=UTC:20270502T220000
DTSTAMP:20260422T022608
CREATED:20260421T005118Z
LAST-MODIFIED:20260421T005118Z
UID:10000113-1809286200-1809295200@caminorealplayhouse.org
SUMMARY:The Miss Firecracker Contest
DESCRIPTION:
URL:https://caminorealplayhouse.org/event/the-miss-firecracker-contest-12/
CATEGORIES:The Miss Firecracker Contest
END:VEVENT
BEGIN:VEVENT
DTSTART;TZID=UTC:20270507T193000
DTEND;TZID=UTC:20270507T220000
DTSTAMP:20260422T022608
CREATED:20260421T005120Z
LAST-MODIFIED:20260421T005120Z
UID:10000093-1809718200-1809727200@caminorealplayhouse.org
SUMMARY:The Miss Firecracker Contest
DESCRIPTION:
URL:https://caminorealplayhouse.org/event/the-miss-firecracker-contest-4/
CATEGORIES:The Miss Firecracker Contest
END:VEVENT
BEGIN:VEVENT
DTSTART;TZID=UTC:20270507T193000
DTEND;TZID=UTC:20270507T220000
DTSTAMP:20260422T022608
CREATED:20260421T005122Z
LAST-MODIFIED:20260421T005122Z
UID:10000114-1809718200-1809727200@caminorealplayhouse.org
SUMMARY:The Miss Firecracker Contest
DESCRIPTION:
URL:https://caminorealplayhouse.org/event/the-miss-firecracker-contest-13/
CATEGORIES:The Miss Firecracker Contest
END:VEVENT
BEGIN:VEVENT
DTSTART;TZID=UTC:20270508T193000
DTEND;TZID=UTC:20270508T220000
DTSTAMP:20260422T022608
CREATED:20260421T005125Z
LAST-MODIFIED:20260421T005125Z
UID:10000094-1809804600-1809813600@caminorealplayhouse.org
SUMMARY:The Miss Firecracker Contest
DESCRIPTION:
URL:https://caminorealplayhouse.org/event/the-miss-firecracker-contest-5/
CATEGORIES:The Miss Firecracker Contest
END:VEVENT
BEGIN:VEVENT
DTSTART;TZID=UTC:20270508T193000
DTEND;TZID=UTC:20270508T220000
DTSTAMP:20260422T022608
CREATED:20260421T005127Z
LAST-MODIFIED:20260421T005127Z
UID:10000115-1809804600-1809813600@caminorealplayhouse.org
SUMMARY:The Miss Firecracker Contest
DESCRIPTION:
URL:https://caminorealplayhouse.org/event/the-miss-firecracker-contest-14/
CATEGORIES:The Miss Firecracker Contest
END:VEVENT
BEGIN:VEVENT
DTSTART;TZID=UTC:20270509T193000
DTEND;TZID=UTC:20270509T220000
DTSTAMP:20260422T022608
CREATED:20260421T005210Z
LAST-MODIFIED:20260421T005210Z
UID:10000095-1809891000-1809900000@caminorealplayhouse.org
SUMMARY:The Miss Firecracker Contest
DESCRIPTION:
URL:https://caminorealplayhouse.org/event/the-miss-firecracker-contest-6/
CATEGORIES:The Miss Firecracker Contest
END:VEVENT
BEGIN:VEVENT
DTSTART;TZID=UTC:20270509T193000
DTEND;TZID=UTC:20270509T220000
DTSTAMP:20260422T022608
CREATED:20260421T005212Z
LAST-MODIFIED:20260421T005212Z
UID:10000116-1809891000-1809900000@caminorealplayhouse.org
SUMMARY:The Miss Firecracker Contest
DESCRIPTION:
URL:https://caminorealplayhouse.org/event/the-miss-firecracker-contest-15/
CATEGORIES:The Miss Firecracker Contest
END:VEVENT
BEGIN:VEVENT
DTSTART;TZID=UTC:20270514T193000
DTEND;TZID=UTC:20270514T220000
DTSTAMP:20260422T022608
CREATED:20260421T005214Z
LAST-MODIFIED:20260421T005214Z
UID:10000096-1810323000-1810332000@caminorealplayhouse.org
SUMMARY:The Miss Firecracker Contest
DESCRIPTION:
URL:https://caminorealplayhouse.org/event/the-miss-firecracker-contest-7/
CATEGORIES:The Miss Firecracker Contest
END:VEVENT
BEGIN:VEVENT
DTSTART;TZID=UTC:20270514T193000
DTEND;TZID=UTC:20270514T220000
DTSTAMP:20260422T022608
CREATED:20260421T005216Z
LAST-MODIFIED:20260421T005216Z
UID:10000117-1810323000-1810332000@caminorealplayhouse.org
SUMMARY:The Miss Firecracker Contest
DESCRIPTION:
URL:https://caminorealplayhouse.org/event/the-miss-firecracker-contest-16/
CATEGORIES:The Miss Firecracker Contest
END:VEVENT
BEGIN:VEVENT
DTSTART;TZID=UTC:20270515T193000
DTEND;TZID=UTC:20270515T220000
DTSTAMP:20260422T022608
CREATED:20260421T005219Z
LAST-MODIFIED:20260421T005219Z
UID:10000097-1810409400-1810418400@caminorealplayhouse.org
SUMMARY:The Miss Firecracker Contest
DESCRIPTION:
URL:https://caminorealplayhouse.org/event/the-miss-firecracker-contest-8/
CATEGORIES:The Miss Firecracker Contest
END:VEVENT
BEGIN:VEVENT
DTSTART;TZID=UTC:20270515T193000
DTEND;TZID=UTC:20270515T220000
DTSTAMP:20260422T022608
CREATED:20260421T005221Z
LAST-MODIFIED:20260421T005221Z
UID:10000118-1810409400-1810418400@caminorealplayhouse.org
SUMMARY:The Miss Firecracker Contest
DESCRIPTION:
URL:https://caminorealplayhouse.org/event/the-miss-firecracker-contest-17/
CATEGORIES:The Miss Firecracker Contest
END:VEVENT
BEGIN:VEVENT
DTSTART;TZID=UTC:20270516T193000
DTEND;TZID=UTC:20270516T220000
DTSTAMP:20260422T022608
CREATED:20260421T005223Z
LAST-MODIFIED:20260421T005223Z
UID:10000098-1810495800-1810504800@caminorealplayhouse.org
SUMMARY:The Miss Firecracker Contest
DESCRIPTION:
URL:https://caminorealplayhouse.org/event/the-miss-firecracker-contest-9/
CATEGORIES:The Miss Firecracker Contest
END:VEVENT
BEGIN:VEVENT
DTSTART;TZID=UTC:20270516T193000
DTEND;TZID=UTC:20270516T220000
DTSTAMP:20260422T022608
CREATED:20260421T005226Z
LAST-MODIFIED:20260421T005226Z
UID:10000119-1810495800-1810504800@caminorealplayhouse.org
SUMMARY:The Miss Firecracker Contest
DESCRIPTION:
URL:https://caminorealplayhouse.org/event/the-miss-firecracker-contest-18/
CATEGORIES:The Miss Firecracker Contest
END:VEVENT
BEGIN:VEVENT
DTSTART;TZID=UTC:20270528T193000
DTEND;TZID=UTC:20270528T220000
DTSTAMP:20260422T022608
CREATED:20260421T005228Z
LAST-MODIFIED:20260421T005228Z
UID:10000099-1811532600-1811541600@caminorealplayhouse.org
SUMMARY:Gypsy
DESCRIPTION:
URL:https://caminorealplayhouse.org/event/gypsy/
CATEGORIES:Gypsy
END:VEVENT
BEGIN:VEVENT
DTSTART;TZID=UTC:20270528T193000
DTEND;TZID=UTC:20270528T220000
DTSTAMP:20260422T022608
CREATED:20260421T005230Z
LAST-MODIFIED:20260421T005230Z
UID:10000120-1811532600-1811541600@caminorealplayhouse.org
SUMMARY:Gypsy
DESCRIPTION:
URL:https://caminorealplayhouse.org/event/gypsy-13/
CATEGORIES:Gypsy
END:VEVENT
BEGIN:VEVENT
DTSTART;TZID=UTC:20270529T193000
DTEND;TZID=UTC:20270529T220000
DTSTAMP:20260422T022608
CREATED:20260421T005245Z
LAST-MODIFIED:20260421T005245Z
UID:10000100-1811619000-1811628000@caminorealplayhouse.org
SUMMARY:Gypsy
DESCRIPTION:
URL:https://caminorealplayhouse.org/event/gypsy-2/
CATEGORIES:Gypsy
END:VEVENT
BEGIN:VEVENT
DTSTART;TZID=UTC:20270529T193000
DTEND;TZID=UTC:20270529T220000
DTSTAMP:20260422T022608
CREATED:20260421T005248Z
LAST-MODIFIED:20260421T005248Z
UID:10000121-1811619000-1811628000@caminorealplayhouse.org
SUMMARY:Gypsy
DESCRIPTION:
URL:https://caminorealplayhouse.org/event/gypsy-14/
CATEGORIES:Gypsy
END:VEVENT
BEGIN:VEVENT
DTSTART;TZID=UTC:20270530T193000
DTEND;TZID=UTC:20270530T220000
DTSTAMP:20260422T022608
CREATED:20260421T005250Z
LAST-MODIFIED:20260421T005250Z
UID:10000101-1811705400-1811714400@caminorealplayhouse.org
SUMMARY:Gypsy
DESCRIPTION:
URL:https://caminorealplayhouse.org/event/gypsy-3/
CATEGORIES:Gypsy
END:VEVENT
BEGIN:VEVENT
DTSTART;TZID=UTC:20270530T193000
DTEND;TZID=UTC:20270530T220000
DTSTAMP:20260422T022608
CREATED:20260421T005252Z
LAST-MODIFIED:20260421T005252Z
UID:10000122-1811705400-1811714400@caminorealplayhouse.org
SUMMARY:Gypsy
DESCRIPTION:
URL:https://caminorealplayhouse.org/event/gypsy-15/
CATEGORIES:Gypsy
END:VEVENT
BEGIN:VEVENT
DTSTART;TZID=UTC:20270604T193000
DTEND;TZID=UTC:20270604T220000
DTSTAMP:20260422T022608
CREATED:20260421T005255Z
LAST-MODIFIED:20260421T005255Z
UID:10000102-1812137400-1812146400@caminorealplayhouse.org
SUMMARY:Gypsy
DESCRIPTION:
URL:https://caminorealplayhouse.org/event/gypsy-4/
CATEGORIES:Gypsy
END:VEVENT
BEGIN:VEVENT
DTSTART;TZID=UTC:20270604T193000
DTEND;TZID=UTC:20270604T220000
DTSTAMP:20260422T022608
CREATED:20260421T005257Z
LAST-MODIFIED:20260421T005257Z
UID:10000123-1812137400-1812146400@caminorealplayhouse.org
SUMMARY:Gypsy
DESCRIPTION:
URL:https://caminorealplayhouse.org/event/gypsy-16/
CATEGORIES:Gypsy
END:VEVENT
BEGIN:VEVENT
DTSTART;TZID=UTC:20270605T193000
DTEND;TZID=UTC:20270605T220000
DTSTAMP:20260422T022608
CREATED:20260421T005259Z
LAST-MODIFIED:20260421T005259Z
UID:10000103-1812223800-1812232800@caminorealplayhouse.org
SUMMARY:Gypsy
DESCRIPTION:
URL:https://caminorealplayhouse.org/event/gypsy-5/
CATEGORIES:Gypsy
END:VEVENT
BEGIN:VEVENT
DTSTART;TZID=UTC:20270605T193000
DTEND;TZID=UTC:20270605T220000
DTSTAMP:20260422T022608
CREATED:20260421T005301Z
LAST-MODIFIED:20260421T005301Z
UID:10000124-1812223800-1812232800@caminorealplayhouse.org
SUMMARY:Gypsy
DESCRIPTION:
URL:https://caminorealplayhouse.org/event/gypsy-17/
CATEGORIES:Gypsy
END:VEVENT
BEGIN:VEVENT
DTSTART;TZID=UTC:20270606T193000
DTEND;TZID=UTC:20270606T220000
DTSTAMP:20260422T022608
CREATED:20260421T005304Z
LAST-MODIFIED:20260421T005304Z
UID:10000104-1812310200-1812319200@caminorealplayhouse.org
SUMMARY:Gypsy
DESCRIPTION:
URL:https://caminorealplayhouse.org/event/gypsy-6/
CATEGORIES:Gypsy
END:VEVENT
BEGIN:VEVENT
DTSTART;TZID=UTC:20270606T193000
DTEND;TZID=UTC:20270606T220000
DTSTAMP:20260422T022608
CREATED:20260421T005306Z
LAST-MODIFIED:20260421T005306Z
UID:10000125-1812310200-1812319200@caminorealplayhouse.org
SUMMARY:Gypsy
DESCRIPTION:
URL:https://caminorealplayhouse.org/event/gypsy-18/
CATEGORIES:Gypsy
END:VEVENT
BEGIN:VEVENT
DTSTART;TZID=UTC:20270611T193000
DTEND;TZID=UTC:20270611T220000
DTSTAMP:20260422T022608
CREATED:20260421T011618Z
LAST-MODIFIED:20260421T011618Z
UID:10000105-1812742200-1812751200@caminorealplayhouse.org
SUMMARY:Gypsy
DESCRIPTION:
URL:https://caminorealplayhouse.org/event/gypsy-7/
CATEGORIES:Gypsy
END:VEVENT
BEGIN:VEVENT
DTSTART;TZID=UTC:20270611T193000
DTEND;TZID=UTC:20270611T220000
DTSTAMP:20260422T022608
CREATED:20260421T011621Z
LAST-MODIFIED:20260421T011621Z
UID:10000126-1812742200-1812751200@caminorealplayhouse.org
SUMMARY:Gypsy
DESCRIPTION:
URL:https://caminorealplayhouse.org/event/gypsy-19/
CATEGORIES:Gypsy
END:VEVENT
BEGIN:VEVENT
DTSTART;TZID=UTC:20270612T193000
DTEND;TZID=UTC:20270612T220000
DTSTAMP:20260422T022608
CREATED:20260421T011623Z
LAST-MODIFIED:20260421T011623Z
UID:10000106-1812828600-1812837600@caminorealplayhouse.org
SUMMARY:Gypsy
DESCRIPTION:
URL:https://caminorealplayhouse.org/event/gypsy-8/
CATEGORIES:Gypsy
END:VEVENT
BEGIN:VEVENT
DTSTART;TZID=UTC:20270612T193000
DTEND;TZID=UTC:20270612T220000
DTSTAMP:20260422T022608
CREATED:20260421T011625Z
LAST-MODIFIED:20260421T011625Z
UID:10000127-1812828600-1812837600@caminorealplayhouse.org
SUMMARY:Gypsy
DESCRIPTION:
URL:https://caminorealplayhouse.org/event/gypsy-20/
CATEGORIES:Gypsy
END:VEVENT
END:VCALENDAR