BEGIN:VCALENDAR
VERSION:2.0
PRODID:-//Camino Real Playhouse - ECPv6.15.20//NONSGML v1.0//EN
CALSCALE:GREGORIAN
METHOD:PUBLISH
X-WR-CALNAME:Camino Real Playhouse
X-ORIGINAL-URL:https://caminorealplayhouse.org
X-WR-CALDESC:Events for Camino Real Playhouse
REFRESH-INTERVAL;VALUE=DURATION:PT1H
X-Robots-Tag:noindex
X-PUBLISHED-TTL:PT1H
BEGIN:VTIMEZONE
TZID:UTC
BEGIN:STANDARD
TZOFFSETFROM:+0000
TZOFFSETTO:+0000
TZNAME:UTC
DTSTART:20260101T000000
END:STANDARD
END:VTIMEZONE
BEGIN:VEVENT
DTSTART;TZID=UTC:20270305T193000
DTEND;TZID=UTC:20270305T220000
DTSTAMP:20260421T222400
CREATED:20260421T004818Z
LAST-MODIFIED:20260421T004818Z
UID:10000054-1804275000-1804284000@caminorealplayhouse.org
SUMMARY:Witness for the Prosecution
DESCRIPTION:
URL:https://caminorealplayhouse.org/event/witness-for-the-prosecution/
CATEGORIES:Witness for the Prosecution
END:VEVENT
BEGIN:VEVENT
DTSTART;TZID=UTC:20270305T193000
DTEND;TZID=UTC:20270305T220000
DTSTAMP:20260421T222400
CREATED:20260421T004820Z
LAST-MODIFIED:20260421T004820Z
UID:10000072-1804275000-1804284000@caminorealplayhouse.org
SUMMARY:Witness for the Prosecution
DESCRIPTION:
URL:https://caminorealplayhouse.org/event/witness-for-the-prosecution-10/
CATEGORIES:Witness for the Prosecution
END:VEVENT
BEGIN:VEVENT
DTSTART;TZID=UTC:20270306T193000
DTEND;TZID=UTC:20270306T220000
DTSTAMP:20260421T222400
CREATED:20260421T004823Z
LAST-MODIFIED:20260421T004823Z
UID:10000055-1804361400-1804370400@caminorealplayhouse.org
SUMMARY:Witness for the Prosecution
DESCRIPTION:
URL:https://caminorealplayhouse.org/event/witness-for-the-prosecution-2/
CATEGORIES:Witness for the Prosecution
END:VEVENT
BEGIN:VEVENT
DTSTART;TZID=UTC:20270306T193000
DTEND;TZID=UTC:20270306T220000
DTSTAMP:20260421T222400
CREATED:20260421T004825Z
LAST-MODIFIED:20260421T004825Z
UID:10000073-1804361400-1804370400@caminorealplayhouse.org
SUMMARY:Witness for the Prosecution
DESCRIPTION:
URL:https://caminorealplayhouse.org/event/witness-for-the-prosecution-11/
CATEGORIES:Witness for the Prosecution
END:VEVENT
BEGIN:VEVENT
DTSTART;TZID=UTC:20270307T193000
DTEND;TZID=UTC:20270307T220000
DTSTAMP:20260421T222400
CREATED:20260421T004827Z
LAST-MODIFIED:20260421T004827Z
UID:10000056-1804447800-1804456800@caminorealplayhouse.org
SUMMARY:Witness for the Prosecution
DESCRIPTION:
URL:https://caminorealplayhouse.org/event/witness-for-the-prosecution-3/
CATEGORIES:Witness for the Prosecution
END:VEVENT
BEGIN:VEVENT
DTSTART;TZID=UTC:20270307T193000
DTEND;TZID=UTC:20270307T220000
DTSTAMP:20260421T222400
CREATED:20260421T004830Z
LAST-MODIFIED:20260421T004830Z
UID:10000074-1804447800-1804456800@caminorealplayhouse.org
SUMMARY:Witness for the Prosecution
DESCRIPTION:
URL:https://caminorealplayhouse.org/event/witness-for-the-prosecution-12/
CATEGORIES:Witness for the Prosecution
END:VEVENT
BEGIN:VEVENT
DTSTART;TZID=UTC:20270312T193000
DTEND;TZID=UTC:20270312T220000
DTSTAMP:20260421T222400
CREATED:20260421T004907Z
LAST-MODIFIED:20260421T004907Z
UID:10000057-1804879800-1804888800@caminorealplayhouse.org
SUMMARY:Witness for the Prosecution
DESCRIPTION:
URL:https://caminorealplayhouse.org/event/witness-for-the-prosecution-4/
CATEGORIES:Witness for the Prosecution
END:VEVENT
BEGIN:VEVENT
DTSTART;TZID=UTC:20270312T193000
DTEND;TZID=UTC:20270312T220000
DTSTAMP:20260421T222400
CREATED:20260421T004909Z
LAST-MODIFIED:20260421T004909Z
UID:10000075-1804879800-1804888800@caminorealplayhouse.org
SUMMARY:Witness for the Prosecution
DESCRIPTION:
URL:https://caminorealplayhouse.org/event/witness-for-the-prosecution-13/
CATEGORIES:Witness for the Prosecution
END:VEVENT
BEGIN:VEVENT
DTSTART;TZID=UTC:20270313T193000
DTEND;TZID=UTC:20270313T220000
DTSTAMP:20260421T222400
CREATED:20260421T004911Z
LAST-MODIFIED:20260421T004911Z
UID:10000058-1804966200-1804975200@caminorealplayhouse.org
SUMMARY:Witness for the Prosecution
DESCRIPTION:
URL:https://caminorealplayhouse.org/event/witness-for-the-prosecution-5/
CATEGORIES:Witness for the Prosecution
END:VEVENT
BEGIN:VEVENT
DTSTART;TZID=UTC:20270313T193000
DTEND;TZID=UTC:20270313T220000
DTSTAMP:20260421T222400
CREATED:20260421T004914Z
LAST-MODIFIED:20260421T004914Z
UID:10000076-1804966200-1804975200@caminorealplayhouse.org
SUMMARY:Witness for the Prosecution
DESCRIPTION:
URL:https://caminorealplayhouse.org/event/witness-for-the-prosecution-14/
CATEGORIES:Witness for the Prosecution
END:VEVENT
BEGIN:VEVENT
DTSTART;TZID=UTC:20270314T193000
DTEND;TZID=UTC:20270314T220000
DTSTAMP:20260421T222400
CREATED:20260421T004916Z
LAST-MODIFIED:20260421T004916Z
UID:10000059-1805052600-1805061600@caminorealplayhouse.org
SUMMARY:Witness for the Prosecution
DESCRIPTION:
URL:https://caminorealplayhouse.org/event/witness-for-the-prosecution-6/
CATEGORIES:Witness for the Prosecution
END:VEVENT
BEGIN:VEVENT
DTSTART;TZID=UTC:20270314T193000
DTEND;TZID=UTC:20270314T220000
DTSTAMP:20260421T222400
CREATED:20260421T004918Z
LAST-MODIFIED:20260421T004918Z
UID:10000077-1805052600-1805061600@caminorealplayhouse.org
SUMMARY:Witness for the Prosecution
DESCRIPTION:
URL:https://caminorealplayhouse.org/event/witness-for-the-prosecution-15/
CATEGORIES:Witness for the Prosecution
END:VEVENT
BEGIN:VEVENT
DTSTART;TZID=UTC:20270319T193000
DTEND;TZID=UTC:20270319T220000
DTSTAMP:20260421T222400
CREATED:20260421T004920Z
LAST-MODIFIED:20260421T004920Z
UID:10000060-1805484600-1805493600@caminorealplayhouse.org
SUMMARY:Witness for the Prosecution
DESCRIPTION:
URL:https://caminorealplayhouse.org/event/witness-for-the-prosecution-7/
CATEGORIES:Witness for the Prosecution
END:VEVENT
BEGIN:VEVENT
DTSTART;TZID=UTC:20270319T193000
DTEND;TZID=UTC:20270319T220000
DTSTAMP:20260421T222400
CREATED:20260421T004923Z
LAST-MODIFIED:20260421T004923Z
UID:10000078-1805484600-1805493600@caminorealplayhouse.org
SUMMARY:Witness for the Prosecution
DESCRIPTION:
URL:https://caminorealplayhouse.org/event/witness-for-the-prosecution-16/
CATEGORIES:Witness for the Prosecution
END:VEVENT
BEGIN:VEVENT
DTSTART;TZID=UTC:20270320T193000
DTEND;TZID=UTC:20270320T220000
DTSTAMP:20260421T222400
CREATED:20260421T004925Z
LAST-MODIFIED:20260421T004925Z
UID:10000061-1805571000-1805580000@caminorealplayhouse.org
SUMMARY:Witness for the Prosecution
DESCRIPTION:
URL:https://caminorealplayhouse.org/event/witness-for-the-prosecution-8/
CATEGORIES:Witness for the Prosecution
END:VEVENT
BEGIN:VEVENT
DTSTART;TZID=UTC:20270320T193000
DTEND;TZID=UTC:20270320T220000
DTSTAMP:20260421T222400
CREATED:20260421T004927Z
LAST-MODIFIED:20260421T004927Z
UID:10000079-1805571000-1805580000@caminorealplayhouse.org
SUMMARY:Witness for the Prosecution
DESCRIPTION:
URL:https://caminorealplayhouse.org/event/witness-for-the-prosecution-17/
CATEGORIES:Witness for the Prosecution
END:VEVENT
BEGIN:VEVENT
DTSTART;TZID=UTC:20270321T193000
DTEND;TZID=UTC:20270321T220000
DTSTAMP:20260421T222400
CREATED:20260421T004937Z
LAST-MODIFIED:20260421T004937Z
UID:10000062-1805657400-1805666400@caminorealplayhouse.org
SUMMARY:Witness for the Prosecution
DESCRIPTION:
URL:https://caminorealplayhouse.org/event/witness-for-the-prosecution-9/
CATEGORIES:Witness for the Prosecution
END:VEVENT
BEGIN:VEVENT
DTSTART;TZID=UTC:20270321T193000
DTEND;TZID=UTC:20270321T220000
DTSTAMP:20260421T222400
CREATED:20260421T004940Z
LAST-MODIFIED:20260421T004940Z
UID:10000080-1805657400-1805666400@caminorealplayhouse.org
SUMMARY:Witness for the Prosecution
DESCRIPTION:
URL:https://caminorealplayhouse.org/event/witness-for-the-prosecution-18/
CATEGORIES:Witness for the Prosecution
END:VEVENT
END:VCALENDAR